Workbook

Sheet PER AJUSTADO Y PREDICTIBILIDAD
A1: CARTERA Y PLAN DE INVERSIÓN: | C1: https://www.jongarcialabiano.com
A5: CÁLCULO DE PER CORREGIDO POR CRECIMIENTO E INFLACIÓN
A7: 25 | B7: PER ACTUAL
A8: 0.15 | B8: TASA DE CRECIMIENTO ANUAL DE LOS BENEFICIOS POR ACCIÓN NORMALIZADOS
A9: 0.04 | B9: TASA DE INFLACIÓN ANUAL, TASA DE TIPOS DE INTERÉS, O TASA DE INVERSIÓN SIN RIESGO
A11: ='calculos auxiliares'!F6 -> 14.54 | B11: PER CORREGIDO
A15: CÁLCULO DE PREDICTIBILIDAD DE BENEFICIOS
A17: REPORTE | B17: 43830 | C17: 44196 | D17: 44561 | E17: 44926
A18: EPS NORMALIZADO | B18: 4.69 | C18: 6.44 | D18: 7.51 | E18: 7.7
A21: TASA CRECIMIENTO | B21: ='calculos auxiliares'!I13 -> 0.17834041
A22: PREDICTIBILIDAD | B22: ='calculos auxiliares'!I11 -> 0.86291186

Sheet calculos auxiliares
A1: CÁLCULOS AUXILIARES PER CORREGIDO | H1: CÁLCULOS AUXILIARES PREDICTIBILIDAD
A2: Y | B2: fnc(Y) | C2: >0 | E2: PER | F2: ='PER AJUSTADO Y PREDICTIBILIDAD'!A7 -> 25 | H2: x | I2: y | J2: x·y | K2: x² | L2: y²
A3: 1000 | B3: -1 | C3: =IF(B4>0,1,0) -> 0 | E3: k | F3: =IF('PER AJUSTADO Y PREDICTIBILIDAD'!A8=0,0.00000000001,'PER AJUSTADO Y PREDICTIBILIDAD'!A8) -> 0.15 | H3: -3 | I3: =LOG10('PER AJUSTADO Y PREDICTIBILIDAD'!B18) -> 0.67117284 | J3: =H3*I3 -> -2.0135185 | K3: =H3^2 -> 9 | L3: =I3^2 -> 0.45047298
A4: 100 | B4: =1+$F$3*$F$2*(1+$F$4)^A4-(1+$F$3)^A4 -> -1174123.1 | C4: =IF(AND(B4>=0,B3<0),1,0) -> 0 | E4: I | F4: ='PER AJUSTADO Y PREDICTIBILIDAD'!A9 -> 0.04 | H4: -2 | I4: =LOG10('PER AJUSTADO Y PREDICTIBILIDAD'!C18) -> 0.80888587 | J4: =H4*I4 -> -1.6177717 | K4: =H4^2 -> 4 | L4: =I4^2 -> 0.65429635
A5: =A4-0.01 -> 99.99 | B5: =1+$F$3*$F$2*(1+$F$4)^A5-(1+$F$3)^A5 -> -1172483 | C5: =IF(AND(B5>=0,B4<0),1,0) -> 0 | H5: -1 | I5: =LOG10('PER AJUSTADO Y PREDICTIBILIDAD'!D18) -> 0.87563994 | J5: =H5*I5 -> -0.87563994 | K5: =H5^2 -> 1 | L5: =I5^2 -> 0.7667453
A6: =A5-0.01 -> 99.98 | B6: =1+$F$3*$F$2*(1+$F$4)^A6-(1+$F$3)^A6 -> -1170845.3 | C6: =IF(AND(B6>=0,B5<0),1,0) -> 0 | E6: Y(fnc=0) | F6: =IF(OR(C3=1,F3<0),">100",SUMPRODUCT(A:A,C:C)) -> 14.54 | H6: 0 | I6: =LOG10('PER AJUSTADO Y PREDICTIBILIDAD'!E18) -> 0.88649073 | J6: =H6*I6 -> 0 | K6: =H6^2 -> 0 | L6: =I6^2 -> 0.78586581
A7: =A6-0.01 -> 99.97 | B7: =1+$F$3*$F$2*(1+$F$4)^A7-(1+$F$3)^A7 -> -1169209.9 | C7: =IF(AND(B7>=0,B6<0),1,0) -> 0 | H7: =SUM(H3:H6) -> -6 | I7: =SUM(I3:I6) -> 3.2421894 | J7: =SUM(J3:J6) -> -4.5069302 | K7: =SUM(K3:K6) -> 14 | L7: =SUM(L3:L6) -> 2.6573804 | M7: SUMA
A8: =A7-0.01 -> 99.96 | B8: =1+$F$3*$F$2*(1+$F$4)^A8-(1+$F$3)^A8 -> -1167576.7 | C8: =IF(AND(B8>=0,B7<0),1,0) -> 0
A9: =A8-0.01 -> 99.95 | B9: =1+$F$3*$F$2*(1+$F$4)^A9-(1+$F$3)^A9 -> -1165945.8 | C9: =IF(AND(B9>=0,B8<0),1,0) -> 0 | H9: a | I9: =(I7*K7-H7*J7)/(4*K7-H7^2) -> 0.9174535
A10: =A9-0.01 -> 99.94 | B10: =1+$F$3*$F$2*(1+$F$4)^A10-(1+$F$3)^A10 -> -1164317.2 | C10: =IF(AND(B10>=0,B9<0),1,0) -> 0 | H10: b | I10: =(4*J7-H7*I7)/(4*K7-H7^2) -> 0.071270772
A11: =A10-0.01 -> 99.93 | B11: =1+$F$3*$F$2*(1+$F$4)^A11-(1+$F$3)^A11 -> -1162690.9 | C11: =IF(AND(B11>=0,B10<0),1,0) -> 0 | H11: r² | I11: =(4*J7-H7*I7)^2/((4*K7-H7^2)*(4*L7-I7^2)) -> 0.86291186
A12: =A11-0.01 -> 99.92 | B12: =1+$F$3*$F$2*(1+$F$4)^A12-(1+$F$3)^A12 -> -1161066.8 | C12: =IF(AND(B12>=0,B11<0),1,0) -> 0 | H12: h | I12: =10^I9 -> 8.2690097
A13: =A12-0.01 -> 99.91 | B13: =1+$F$3*$F$2*(1+$F$4)^A13-(1+$F$3)^A13 -> -1159445 | C13: =IF(AND(B13>=0,B12<0),1,0) -> 0 | H13: k | I13: =10^I10-1 -> 0.17834041
A14: =A13-0.01 -> 99.9 | B14: =1+$F$3*$F$2*(1+$F$4)^A14-(1+$F$3)^A14 -> -1157825.5 | C14: =IF(AND(B14>=0,B13<0),1,0) -> 0 | H14: e (f=1) | I14: =I12*(1+I13) -> 9.7437083
A15: =A14-0.01 -> 99.89 | B15: =1+$F$3*$F$2*(1+$F$4)^A15-(1+$F$3)^A15 -> -1156208.3 | C15: =IF(AND(B15>=0,B14<0),1,0) -> 0
A16: =A15-0.01 -> 99.88 | B16: =1+$F$3*$F$2*(1+$F$4)^A16-(1+$F$3)^A16 -> -1154593.3 | C16: =IF(AND(B16>=0,B15<0),1,0) -> 0
A17: =A16-0.01 -> 99.87 | B17: =1+$F$3*$F$2*(1+$F$4)^A17-(1+$F$3)^A17 -> -1152980.5 | C17: =IF(AND(B17>=0,B16<0),1,0) -> 0
A18: =A17-0.01 -> 99.86 | B18: =1+$F$3*$F$2*(1+$F$4)^A18-(1+$F$3)^A18 -> -1151370 | C18: =IF(AND(B18>=0,B17<0),1,0) -> 0
A19: =A18-0.01 -> 99.85 | B19: =1+$F$3*$F$2*(1+$F$4)^A19-(1+$F$3)^A19 -> -1149761.8 | C19: =IF(AND(B19>=0,B18<0),1,0) -> 0
A20: =A19-0.01 -> 99.84 | B20: =1+$F$3*$F$2*(1+$F$4)^A20-(1+$F$3)^A20 -> -1148155.8 | C20: =IF(AND(B20>=0,B19<0),1,0) -> 0
A21: =A20-0.01 -> 99.83 | B21: =1+$F$3*$F$2*(1+$F$4)^A21-(1+$F$3)^A21 -> -1146552 | C21: =IF(AND(B21>=0,B20<0),1,0) -> 0
A22: =A21-0.01 -> 99.82 | B22: =1+$F$3*$F$2*(1+$F$4)^A22-(1+$F$3)^A22 -> -1144950.5 | C22: =IF(AND(B22>=0,B21<0),1,0) -> 0
A23: =A22-0.01 -> 99.81 | B23: =1+$F$3*$F$2*(1+$F$4)^A23-(1+$F$3)^A23 -> -1143351.2 | C23: =IF(AND(B23>=0,B22<0),1,0) -> 0
A24: =A23-0.01 -> 99.8 | B24: =1+$F$3*$F$2*(1+$F$4)^A24-(1+$F$3)^A24 -> -1141754.2 | C24: =IF(AND(B24>=0,B23<0),1,0) -> 0
A25: =A24-0.01 -> 99.79 | B25: =1+$F$3*$F$2*(1+$F$4)^A25-(1+$F$3)^A25 -> -1140159.4 | C25: =IF(AND(B25>=0,B24<0),1,0) -> 0
A26: =A25-0.01 -> 99.78 | B26: =1+$F$3*$F$2*(1+$F$4)^A26-(1+$F$3)^A26 -> -1138566.8 | C26: =IF(AND(B26>=0,B25<0),1,0) -> 0
... A10004: =A10003-0.01 -> -1.4250021e-11 | B10004: =1+$F$3*$F$2*(1+$F$4)^A10004-(1+$F$3)^A10004 -> 3.75 | C10004: =IF(AND(B10004>=0,B10003<0),1,0) -> 0
