Workbook

Sheet REVENUE
A1: =UPPER(CONCATENATE(NUMBERS!A1," : ",A2," : ",A4," (Source: TIKR.com)")) -> COR : INCOME : TOTAL_REVENUES (SOURCE: TIKR.COM)
A2: =SUMMARY!A1 -> INCOME
A3: =SUMMARY!A2:K2 -> date | B3: =SUMMARY!B2:L2 -> 30/09/15 | C3: =SUMMARY!C2:M2 -> 30/09/16 | D3: =SUMMARY!D2:N2 -> 30/09/17 | E3: =SUMMARY!E2:O2 -> 30/09/18 | F3: =SUMMARY!F2:P2 -> 30/09/19 | G3: =SUMMARY!G2:Q2 -> 30/09/20 | H3: =SUMMARY!H2:R2 -> 30/09/21 | ... K3: =SUMMARY!K2:U2 -> 30/09/24
A4: =SUMMARY!A3 -> total_revenues | B4: =SUMMARY!B3 -> 135961.8 | C4: =SUMMARY!C3 -> 146849.69 | D4: =SUMMARY!D3 -> 153143.83 | E4: =SUMMARY!E3 -> 167939.64 | F4: =SUMMARY!F3 -> 179589.12 | G4: =SUMMARY!G3 -> 189893.93 | H4: =SUMMARY!H3 -> 213988.84 | ... K4: =SUMMARY!K3 -> 293958.6

Sheet EB
A1: =UPPER(CONCATENATE(NUMBERS!A1," : ",A3," : ",A5," (Source: TIKR.com)")) -> COR : ESTIMATES : EBITDA (SOURCE: TIKR.COM)
A2: =UPPER(CONCATENATE(NUMBERS!A1," : ",A3," : ",A6," (Source: TIKR.com)")) -> COR : ESTIMATES : EBIT (SOURCE: TIKR.COM)
A3: =SUMMARY!A36 -> ESTIMATES
A4: =SUMMARY!A37 -> date | B4: =SUMMARY!B37 -> 30/09/15 | C4: =SUMMARY!C37 -> 30/09/16 | D4: =SUMMARY!D37 -> 30/09/17 | E4: =SUMMARY!E37 -> 30/09/18 | F4: =SUMMARY!F37 -> 30/09/19 | G4: =SUMMARY!G37 -> 30/09/20 | H4: =SUMMARY!H37 -> 30/09/21 | ... K4: =SUMMARY!K37 -> 30/09/24
A5: =SUMMARY!A38 -> ebitda | B5: =SUMMARY!B38 -> 2088.58 | C5: =SUMMARY!C38 -> 2247.84 | D5: =SUMMARY!D38 -> 2258.1 | E5: =SUMMARY!E38 -> 2271.61 | F5: =SUMMARY!F38 -> 2353.81 | G5: =SUMMARY!G38 -> 2485.03 | H5: =SUMMARY!H38 -> 2977.16 | ... K5: =SUMMARY!K38 -> 4079.94
A6: =SUMMARY!A39 -> ebit | B6: =SUMMARY!B39 -> 1899.4 | C6: =SUMMARY!C39 -> 2030.37 | D6: =SUMMARY!D39 -> 2016.87 | E6: =SUMMARY!E39 -> 1981.23 | F6: =SUMMARY!F39 -> 2051.25 | G6: =SUMMARY!G39 -> 2204.45 | H6: =SUMMARY!H39 -> 2648.2 | ... K6: =SUMMARY!K39 -> 3648.26

Sheet EPS
A1: =UPPER(CONCATENATE(NUMBERS!A1," : ",A3," : ",A5," (Source: TIKR.com)")) -> COR : ESTIMATES : EPS_NORMALIZED (SOURCE: TIKR.COM)
A2: =UPPER(CONCATENATE(NUMBERS!A1," : ",A3," : ",A6," (Source: TIKR.com)")) -> COR : ESTIMATES : EPS_GAAP (SOURCE: TIKR.COM)
A3: =SUMMARY!A36 -> ESTIMATES
A4: =SUMMARY!A37 -> date | B4: =SUMMARY!B37 -> 30/09/15 | C4: =SUMMARY!C37 -> 30/09/16 | D4: =SUMMARY!D37 -> 30/09/17 | E4: =SUMMARY!E37 -> 30/09/18 | F4: =SUMMARY!F37 -> 30/09/19 | G4: =SUMMARY!G37 -> 30/09/20 | H4: =SUMMARY!H37 -> 30/09/21 | ... K4: =SUMMARY!K37 -> 30/09/24
A5: =SUMMARY!A40 -> eps_normalized | B5: =SUMMARY!B40 -> 4.96 | C5: =SUMMARY!C40 -> 5.62 | D5: =SUMMARY!D40 -> 5.88 | E5: =SUMMARY!E40 -> 6.49 | F5: =SUMMARY!F40 -> 7.09 | G5: =SUMMARY!G40 -> 7.9 | H5: =SUMMARY!H40 -> 9.26 | ... K5: =SUMMARY!K40 -> 13.76
A6: =SUMMARY!A41 -> eps_gaap | B6: =SUMMARY!B41 -> -0.62 | C6: =SUMMARY!C41 -> 6.32 | D6: =SUMMARY!D41 -> 1.87 | E6: =SUMMARY!E41 -> 7.53 | F6: =SUMMARY!F41 -> 4.04 | G6: =SUMMARY!G41 -> -16.65 | H6: =SUMMARY!H41 -> 7.39 | ... K6: =SUMMARY!K41 -> 7.53

Sheet FREE CASHFLOW
A1: =UPPER(CONCATENATE(NUMBERS!A1," : ",A2," : ",A4," (Source: TIKR.com)")) -> COR : ESTIMATES : FREE_CASH_FLOW (SOURCE: TIKR.COM)
A2: =SUMMARY!A36 -> ESTIMATES
A3: =SUMMARY!A2:K2 -> date | B3: =SUMMARY!B2:L2 -> 30/09/15 | C3: =SUMMARY!C2:M2 -> 30/09/16 | D3: =SUMMARY!D2:N2 -> 30/09/17 | E3: =SUMMARY!E2:O2 -> 30/09/18 | F3: =SUMMARY!F2:P2 -> 30/09/19 | G3: =SUMMARY!G2:Q2 -> 30/09/20 | H3: =SUMMARY!H2:R2 -> 30/09/21 | ... K3: =SUMMARY!K2:U2 -> 30/09/24
A4: =SUMMARY!A42 -> free_cash_flow | B4: =SUMMARY!B42 -> 3688.79 | C4: =SUMMARY!C42 -> 2713.88 | D4: =SUMMARY!D42 -> 1022.61 | E4: =SUMMARY!E42 -> 1074.98 | F4: =SUMMARY!F42 -> 2033.8 | G4: =SUMMARY!G42 -> 1837.36 | H4: =SUMMARY!H42 -> 2228.37 | ... K4: =SUMMARY!K42 -> 2997.51

Sheet CAPEX
A1: =UPPER(CONCATENATE(NUMBERS!A1," : ",A2," : ",A4," (Source: TIKR.com)")) -> COR : CASHFLOW : CAPITAL_EXPENDITURE (SOURCE: TIKR.COM)
A2: =SUMMARY!A21 -> CASHFLOW
A3: =SUMMARY!A22 -> date | B3: =SUMMARY!B22 -> 30/09/15 | C3: =SUMMARY!C22 -> 30/09/16 | D3: =SUMMARY!D22 -> 30/09/17 | E3: =SUMMARY!E22 -> 30/09/18 | F3: =SUMMARY!F22 -> 30/09/19 | G3: =SUMMARY!G22 -> 30/09/20 | H3: =SUMMARY!H22 -> 30/09/21 | ... K3: =SUMMARY!K22 -> 30/09/24
A4: =SUMMARY!A24 -> capital_expenditure | B4: =SUMMARY!B24 -> 231.59 | C4: =SUMMARY!C24 -> 464.62 | D4: =SUMMARY!D24 -> 466.4 | E4: =SUMMARY!E24 -> 336.41 | F4: =SUMMARY!F24 -> 310.22 | G4: =SUMMARY!G24 -> 369.68 | H4: =SUMMARY!H24 -> 438.22 | ... K4: =SUMMARY!K24 -> 487.17

Sheet GOODWILL
A1: =UPPER(CONCATENATE(NUMBERS!A1," : ",A2," : ",A4," (Source: TIKR.com)")) -> COR : BALANCE : GOODWILL (SOURCE: TIKR.COM)
A2: =SUMMARY!A11 -> BALANCE
A3: =SUMMARY!A12 -> date | B3: =SUMMARY!B12 -> 30/09/15 | C3: =SUMMARY!C12 -> 30/09/16 | D3: =SUMMARY!D12 -> 30/09/17 | E3: =SUMMARY!E12 -> 30/09/18 | F3: =SUMMARY!F12 -> 30/09/19 | G3: =SUMMARY!G12 -> 30/09/20 | H3: =SUMMARY!H12 -> 30/09/21 | ... K3: =SUMMARY!K12 -> 30/09/24
A4: =SUMMARY!A14 -> goodwill | B4: =SUMMARY!B14 -> 4144.39 | C4: =SUMMARY!C14 -> 5991.5 | D4: =SUMMARY!D14 -> 6044.28 | E4: =SUMMARY!E14 -> 6664.27 | F4: =SUMMARY!F14 -> 6705.51 | G4: =SUMMARY!G14 -> 6706.72 | H4: =SUMMARY!H14 -> 9030.53 | ... K4: =SUMMARY!K14 -> 9318.03

Sheet MARGINS
A1: =UPPER(CONCATENATE(NUMBERS!A1," : ",A3," : ",A5," (Source: TIKR.com)")) -> COR : RATIOS : EBITDA_MARGIN_PERC (SOURCE: TIKR.COM)
A2: =UPPER(CONCATENATE(NUMBERS!A1," : ",A3," : ",A6," (Source: TIKR.com)")) -> COR : RATIOS : EBIT_MARGIN_PERC (SOURCE: TIKR.COM)
A3: =SUMMARY!A28 -> RATIOS
A4: =SUMMARY!A29 -> date | B4: =SUMMARY!B29 -> 30/09/15 | C4: =SUMMARY!C29 -> 30/09/16 | D4: =SUMMARY!D29 -> 30/09/17 | E4: =SUMMARY!E29 -> 30/09/18 | F4: =SUMMARY!F29 -> 30/09/19 | G4: =SUMMARY!G29 -> 30/09/20 | H4: =SUMMARY!H29 -> 30/09/21 | ... K4: =SUMMARY!K29 -> 30/09/24
A5: =SUMMARY!A32 -> ebitda_margin_perc | B5: =SUMMARY!B32 -> 1.1 | C5: =SUMMARY!C32 -> 1.4 | D5: =SUMMARY!D32 -> 1.6 | E5: =SUMMARY!E32 -> 1.3 | F5: =SUMMARY!F32 -> 1.4 | G5: =SUMMARY!G32 -> 1.3 | H5: =SUMMARY!H32 -> 1.5 | ... K5: =SUMMARY!K32 -> 1.4
A6: =SUMMARY!A33 -> ebit_margin_perc | B6: =SUMMARY!B33 -> 1 | C6: =SUMMARY!C33 -> 1.1 | D6: =SUMMARY!D33 -> 1.3 | E6: =SUMMARY!E33 -> 1 | F6: =SUMMARY!F33 -> 1.1 | G6: =SUMMARY!G33 -> 1.1 | H6: =SUMMARY!H33 -> 1.3 | ... K6: =SUMMARY!K33 -> 1

Sheet RETURN
A1: =UPPER(CONCATENATE(NUMBERS!A1," : ",A2," : ",A4," (Source: TIKR.com)")) -> COR : RATIOS : RETURN_ON_CAPITAL_PERC (SOURCE: TIKR.COM)
A2: =SUMMARY!A28 -> RATIOS
A3: =SUMMARY!A29 -> date | B3: =SUMMARY!B29 -> 30/09/15 | C3: =SUMMARY!C29 -> 30/09/16 | D3: =SUMMARY!D29 -> 30/09/17 | E3: =SUMMARY!E29 -> 30/09/18 | F3: =SUMMARY!F29 -> 30/09/19 | G3: =SUMMARY!G29 -> 30/09/20 | H3: =SUMMARY!H29 -> 30/09/21 | ... K3: =SUMMARY!K29 -> 30/09/24
A4: =SUMMARY!A30 -> return_on_capital_perc | B4: =SUMMARY!B30 -> 20.8 | C4: =SUMMARY!C30 -> 19.1 | D4: =SUMMARY!D30 -> 24.2 | E4: =SUMMARY!E30 -> 17.3 | F4: =SUMMARY!F30 -> 21.5 | G4: =SUMMARY!G30 -> 45.8 | H4: =SUMMARY!H30 -> 26.6 | ... K4: =SUMMARY!K30 -> 37.8

Sheet DEBT
A1: =UPPER(CONCATENATE(NUMBERS!A1," : ",A2," : ",A4," (Source: TIKR.com)")) -> COR : RATIOS : TOTAL_DEBT_PER_EBITDA (SOURCE: TIKR.COM)
A2: =SUMMARY!A28 -> RATIOS
A3: =SUMMARY!A29 -> date | B3: =SUMMARY!B29 -> 30/09/15 | C3: =SUMMARY!C29 -> 30/09/16 | D3: =SUMMARY!D29 -> 30/09/17 | E3: =SUMMARY!E29 -> 30/09/18 | F3: =SUMMARY!F29 -> 30/09/19 | G3: =SUMMARY!G29 -> 30/09/20 | H3: =SUMMARY!H29 -> 30/09/21 | ... K3: =SUMMARY!K29 -> 30/09/24
A4: =SUMMARY!A34 -> total_debt_per_ebitda | B4: =SUMMARY!B34 -> 2.4 | C4: =SUMMARY!C34 -> 2.16 | D4: =SUMMARY!D34 -> 1.55 | E4: =SUMMARY!E34 -> 2.17 | F4: =SUMMARY!F34 -> 1.8 | G4: =SUMMARY!G34 -> 1.78 | H4: =SUMMARY!H34 -> 2.32 | ... K4: =SUMMARY!K34 -> 1.26

Sheet EQUITY
A1: =UPPER(CONCATENATE(NUMBERS!A1," : ",A2," : ",A4," (Source: TIKR.com)")) -> COR : BALANCE : TOTAL_EQUITY (SOURCE: TIKR.COM)
A2: =SUMMARY!A11 -> BALANCE
A3: =SUMMARY!A12 -> date | B3: =SUMMARY!B12 -> 30/09/15 | C3: =SUMMARY!C12 -> 30/09/16 | D3: =SUMMARY!D12 -> 30/09/17 | E3: =SUMMARY!E12 -> 30/09/18 | F3: =SUMMARY!F12 -> 30/09/19 | G3: =SUMMARY!G12 -> 30/09/20 | H3: =SUMMARY!H12 -> 30/09/21 | ... K3: =SUMMARY!K12 -> 30/09/24
A4: =SUMMARY!A19 -> total_equity | B4: =SUMMARY!B19 -> 616.39 | C4: =SUMMARY!C19 -> 2129.4 | D4: =SUMMARY!D19 -> 2064.46 | E4: =SUMMARY!E19 -> 3049.96 | F4: =SUMMARY!F19 -> 2993.21 | G4: =SUMMARY!G19 -> -839.64 | H4: =SUMMARY!H19 -> 584.41 | ... K4: =SUMMARY!K19 -> 786.74

Sheet DIVIDENDS
A1: =UPPER(CONCATENATE(NUMBERS!A1," : ",A2," : ",A4," (Source: TIKR.com)")) -> COR : CASHFLOW : COMMON_AND_PREFERRED_STOCK_DIVIDENDS_PAID (SOURCE: TIKR.COM)
A2: =SUMMARY!A21 -> CASHFLOW
A3: =SUMMARY!A22 -> date | B3: =SUMMARY!B22 -> 30/09/15 | C3: =SUMMARY!C22 -> 30/09/16 | D3: =SUMMARY!D22 -> 30/09/17 | E3: =SUMMARY!E22 -> 30/09/18 | F3: =SUMMARY!F22 -> 30/09/19 | G3: =SUMMARY!G22 -> 30/09/20 | H3: =SUMMARY!H22 -> 30/09/21 | ... K3: =SUMMARY!K22 -> 30/09/24
A4: =SUMMARY!A25 -> common_and_preferred_stock_dividends_paid | B4: =SUMMARY!B25 -> 253.92 | C4: =SUMMARY!C25 -> 288.48 | D4: =SUMMARY!D25 -> 320.27 | E4: =SUMMARY!E25 -> 333.04 | F4: =SUMMARY!F25 -> 338.97 | G4: =SUMMARY!G25 -> 343.58 | H4: =SUMMARY!H25 -> 366.65 | ... K4: =SUMMARY!K25 -> 416.17

Sheet SHARES
A1: =UPPER(CONCATENATE(NUMBERS!A1," : ",A2," : ",A4," (Source: TIKR.com)")) -> COR : INCOME : WEIGHTED_AVERAGE_DILUTED_SHARES_OUTSTANDING (SOURCE: TIKR.COM)
A2: =SUMMARY!A1 -> INCOME
A3: =SUMMARY!A2 -> date | B3: =SUMMARY!B2 -> 30/09/15 | C3: =SUMMARY!C2 -> 30/09/16 | D3: =SUMMARY!D2 -> 30/09/17 | E3: =SUMMARY!E2 -> 30/09/18 | F3: =SUMMARY!F2 -> 30/09/19 | G3: =SUMMARY!G2 -> 30/09/20 | H3: =SUMMARY!H2 -> 30/09/21 | ... K3: =SUMMARY!K2 -> 30/09/24
A4: =SUMMARY!A8 -> weighted_average_diluted_shares_outstanding | B4: =SUMMARY!B8 -> 217.79 | C4: =SUMMARY!C8 -> 225.96 | D4: =SUMMARY!D8 -> 221.6 | E4: =SUMMARY!E8 -> 220.34 | F4: =SUMMARY!F8 -> 211.84 | G4: =SUMMARY!G8 -> 204.78 | H4: =SUMMARY!H8 -> 208.47 | ... K4: =SUMMARY!K8 -> 200.28

Sheet REPURCHASE
A1: =UPPER(CONCATENATE(NUMBERS!A1," : ",A2," : ",A4," (Source: TIKR.com)")) -> COR : CASHFLOW : REPURCHASE_OF_COMMON_STOCK (SOURCE: TIKR.COM)
A2: =SUMMARY!A21 -> CASHFLOW
A3: =SUMMARY!A22 -> date | B3: =SUMMARY!B22 -> 30/09/15 | C3: =SUMMARY!C22 -> 30/09/16 | D3: =SUMMARY!D22 -> 30/09/17 | E3: =SUMMARY!E22 -> 30/09/18 | F3: =SUMMARY!F22 -> 30/09/19 | G3: =SUMMARY!G22 -> 30/09/20 | H3: =SUMMARY!H22 -> 30/09/21 | ... K3: =SUMMARY!K22 -> 30/09/24
A4: =SUMMARY!A26 -> repurchase_of_common_stock | B4: =SUMMARY!B26 -> 1873.62 | C4: =SUMMARY!C26 -> 2288.49 | D4: =SUMMARY!D26 -> 339.34 | E4: =SUMMARY!E26 -> 647.48 | F4: =SUMMARY!F26 -> 680.02 | G4: =SUMMARY!G26 -> 430.24 | H4: =SUMMARY!H26 -> 105.7 | ... K4: =SUMMARY!K26 -> 1554.87

Sheet NUMBERS
A1: COR | B1: 30/09/21 | C1: 30/09/22 | D1: 30/09/23 | E1: 30/09/24 | H1: 3Y | L1: =C1 -> 30/09/22 | M1: =D1 -> 30/09/23 | N1: =E1 -> 30/09/24 | Q1: =H1 -> 3Y
A2: REVENUE | B2: 213988.84 | C2: 238587.01 | D2: 262173.41 | E2: 293958.6 | G2: =A2&" "&$H$1 -> REVENUE 3Y | H2: =AVERAGE(C2:E2) -> 264906.34 | K2: =A2&" YoY %" -> REVENUE YoY % | L2: =(C2-B2)/B2 -> 0.11495071 | M2: =(D2-C2)/C2 -> 0.098858693 | N2: =(E2-D2)/D2 -> 0.12123728 | P2: =K2&" "&$Q$1 -> REVENUE YoY % 3Y | Q2: =AVERAGE(L2:N2) -> 0.11168223 | R2: =IF(Q2>0,"OK","!!") -> OK
A3: EBITDA | B3: 2977.16 | C3: 3552.77 | D3: 3701.98 | E3: 4079.94 | G3: =A3&" "&$H$1 -> EBITDA 3Y | H3: =AVERAGE(C3:E3) -> 3778.23 | K3: =A3&" YoY %" -> EBITDA YoY % | L3: =(C3-B3)/B3 -> 0.19334198 | M3: =(D3-C3)/C3 -> 0.041998215 | N3: =(E3-D3)/D3 -> 0.10209672 | P3: =K3&" "&$Q$1 -> EBITDA YoY % 3Y | Q3: =AVERAGE(L3:N3) -> 0.11247897 | R3: =IF(Q3>0,"OK","!!") -> OK
A4: EBIT | B4: 2648.2 | C4: 3163.43 | D4: 3289.12 | E4: 3648.26 | G4: =A4&" "&$H$1 -> EBIT 3Y | H4: =AVERAGE(C4:E4) -> 3366.9367 | K4: =A4&" YoY %" -> EBIT YoY % | L4: =(C4-B4)/B4 -> 0.19455857 | M4: =(D4-C4)/C4 -> 0.039732189 | N4: =(E4-D4)/D4 -> 0.1091903 | P4: =K4&" "&$Q$1 -> EBIT YoY % 3Y | Q4: =AVERAGE(L4:N4) -> 0.11449369 | R4: =IF(Q4>0,"OK","!!") -> OK
A5: EPS | B5: 9.26 | C5: 11.03 | D5: 11.99 | E5: 13.76 | G5: =A5&" "&$H$1 -> EPS 3Y | H5: =AVERAGE(C5:E5) -> 12.26 | K5: =A5&" YoY %" -> EPS YoY % | L5: =(C5-B5)/B5 -> 0.19114471 | M5: =(D5-C5)/C5 -> 0.087035358 | N5: =(E5-D5)/D5 -> 0.14762302 | P5: =K5&" "&$Q$1 -> EPS YoY % 3Y | Q5: =AVERAGE(L5:N5) -> 0.14193436 | R5: =IF(Q5>0,"OK","!!") -> OK
A6: FREE CASHFLOW | B6: 2228.37 | C6: 2206.77 | D6: 3452.98 | E6: 2997.51 | G6: =A6&" "&$H$1 -> FREE CASHFLOW 3Y | H6: =AVERAGE(C6:E6) -> 2885.7533 | K6: =A6&" YoY %" -> FREE CASHFLOW YoY % | L6: =(C6-B6)/B6 -> -0.0096931838 | M6: =(D6-C6)/C6 -> 0.56472129 | N6: =(E6-D6)/D6 -> -0.13190635 | P6: =K6&" "&$Q$1 -> FREE CASHFLOW YoY % 3Y | Q6: =AVERAGE(L6:N6) -> 0.14104058 | R6: =IF(Q6>0,"OK","!!") -> OK
A7: CAPEX | B7: 438.22 | C7: 496.32 | D7: 458.36 | E7: 487.17 | G7: =A7&" "&$H$1 -> CAPEX 3Y | H7: =AVERAGE(C7:E7) -> 480.61667 | K7: =A7&" YoY %" -> CAPEX YoY % | L7: =(C7-B7)/B7 -> 0.13258181 | M7: =(D7-C7)/C7 -> -0.076482914 | N7: =(E7-D7)/D7 -> 0.062854525 | P7: =K7&" "&$Q$1 -> CAPEX YoY % 3Y | Q7: =AVERAGE(L7:N7) -> 0.03965114 | R7: =IF(Q7<0,"OK","!!") -> !!
A8: GOODWILL | B8: 9030.53 | C8: 8503.89 | D8: 9574.12 | E8: 9318.03 | G8: =A8&" "&$H$1 -> GOODWILL 3Y | H8: =AVERAGE(C8:E8) -> 9132.0133 | K8: =A8&" YoY %" -> GOODWILL YoY % | L8: =(C8-B8)/B8 -> -0.058317729 | M8: =(D8-C8)/C8 -> 0.12585182 | N8: =(E8-D8)/D8 -> -0.02674815 | P8: =K8&" "&$Q$1 -> GOODWILL YoY % 3Y | Q8: =AVERAGE(L8:N8) -> 0.013595312 | R8: =IF(Q8<0,"OK","!!") -> !!
A9: EBITDA MARGIN % | B9: 1.5 | C9: 1.5 | D9: 1.3 | E9: 1.4 | G9: =A9&" "&$H$1 -> EBITDA MARGIN % 3Y | H9: =AVERAGE(C9:E9)/100 -> 0.014 | I9: =IF(H9>0.1,"OK","!!") -> !! | K9: =A9&" YoY %" -> EBITDA MARGIN % YoY % | L9: =(C9-B9)/100 -> 0 | M9: =(D9-C9)/100 -> -0.002 | N9: =(E9-D9)/100 -> 0.001 | P9: =K9&" "&$Q$1 -> EBITDA MARGIN % YoY % 3Y | Q9: =AVERAGE(L9:N9) -> -0.00033333333 | R9: =IF(Q9>0,"OK","!!") -> !!
A10: EBIT MARGIN % | B10: 1.3 | C10: 1.2 | D10: 1 | E10: 1 | G10: =A10&" "&$H$1 -> EBIT MARGIN % 3Y | H10: =AVERAGE(C10:E10)/100 -> 0.010666667 | I10: =IF(H10>0.1,"OK","!!") -> !! | K10: =A10&" YoY %" -> EBIT MARGIN % YoY % | L10: =(C10-B10)/100 -> -0.001 | M10: =(D10-C10)/100 -> -0.002 | N10: =(E10-D10)/100 -> 0 | P10: =K10&" "&$Q$1 -> EBIT MARGIN % YoY % 3Y | Q10: =AVERAGE(L10:N10) -> -0.001 | R10: =IF(Q10>0,"OK","!!") -> !!
A11: ROCE % | B11: 26.6 | C11: 33.2 | D11: 30.8 | E11: 37.8 | G11: =A11&" "&$H$1 -> ROCE % 3Y | H11: =AVERAGE(C11:E11)/100 -> 0.33933333 | I11: =IF(H11>0.1,"OK","!!") -> OK | K11: =A11&" YoY %" -> ROCE % YoY % | L11: =(C11-B11)/100 -> 0.066 | M11: =(D11-C11)/100 -> -0.024 | N11: =(E11-D11)/100 -> 0.07 | P11: =K11&" "&$Q$1 -> ROCE % YoY % 3Y | Q11: =AVERAGE(L11:N11) -> 0.037333333 | R11: =IF(Q11>0,"OK","!!") -> OK
A12: DEBT / EBITDA | B12: 2.32 | C12: 1.79 | D12: 1.56 | E12: 1.26 | G12: =A12&" "&$H$1 -> DEBT / EBITDA 3Y | H12: =AVERAGE(C12:E12) -> 1.5366667 | I12: =IF(H12<3,"OK","!!") -> OK | K12: =A12&" YoY %" -> DEBT / EBITDA YoY % | L12: =(C12-B12)/B12 -> -0.22844828 | M12: =(D12-C12)/C12 -> -0.12849162 | N12: =(E12-D12)/D12 -> -0.19230769 | P12: =K12&" "&$Q$1 -> DEBT / EBITDA YoY % 3Y | Q12: =AVERAGE(L12:N12) -> -0.18308253 | R12: =IF(Q12<0,"OK","!!") -> OK
A13: EQUITY | B13: 584.41 | C13: 71.27 | D13: 666.29 | E13: 786.74 | G13: =A13&" "&$H$1 -> EQUITY 3Y | H13: =AVERAGE(C13:E13) -> 508.1 | K13: =A13&" YoY %" -> EQUITY YoY % | L13: =(C13-B13)/B13 -> -0.87804795 | M13: =(D13-C13)/C13 -> 8.3488144 | N13: =(E13-D13)/D13 -> 0.18077714 | P13: =K13&" "&$Q$1 -> EQUITY YoY % 3Y | Q13: =AVERAGE(L13:N13) -> 2.5505145 | R13: =IF(Q13>0,"OK","!!") -> OK
A14: DIVIDENDS PER SHARE | B14: 1.76 | C14: 1.84 | D14: 1.94 | E14: 2.04 | G14: =A14&" "&$H$1 -> DIVIDENDS PER SHARE 3Y | H14: =IF(SUM(B14:E14)>0,AVERAGE(C14:E14),0) -> 1.94 | K14: =A14&" YoY %" -> DIVIDENDS PER SHARE YoY % | L14: =IF($H$14>0,(C14-B14)/B14,0) -> 0.045454545 | M14: =IF($H$14>0,(D14-C14)/C14,0) -> 0.054347826 | N14: =IF($H$14>0,(E14-D14)/D14,0) -> 0.051546392 | P14: =K14&" "&$Q$1 -> DIVIDENDS PER SHARE YoY % 3Y | Q14: =AVERAGE(L14:N14) -> 0.050449588 | R14: =IF(Q14>0,"OK","!!") -> OK
A15: SHARES | B15: 208.47 | C15: 211.21 | D15: 204.59 | E15: 200.28 | G15: =A15&" "&$H$1 -> SHARES 3Y | H15: =AVERAGE(C15:E15) -> 205.36 | K15: =A15&" YoY %" -> SHARES YoY % | L15: =(C15-B15)/B15 -> 0.013143378 | M15: =(D15-C15)/C15 -> -0.031343213 | N15: =(E15-D15)/D15 -> -0.021066523 | P15: =K15&" "&$Q$1 -> SHARES YoY % 3Y | Q15: =AVERAGE(L15:N15) -> -0.013088786 | R15: =IF(Q15<0,"OK","!!") -> OK
A16: REPURCHASE OF STOCKS | B16: -93.05 | C16: 427.87 | D16: 1190.86 | E16: 1517.03 | G16: =A16&" "&$H$1 -> REPURCHASE OF STOCKS 3Y | H16: =AVERAGE(C16:E16) -> 1045.2533 | K16: =A16&" YoY %" -> REPURCHASE OF STOCKS YoY % | L16: =(C16-B16)/B16 -> -5.5982805 | M16: =(D16-C16)/C16 -> 1.7832286 | N16: =(E16-D16)/D16 -> 0.2738945 | P16: =K16&" "&$Q$1 -> REPURCHASE OF STOCKS YoY % 3Y | Q16: =AVERAGE(L16:N16) -> -1.1803858 | R16: =IF(Q16>0,"OK","!!") -> !!
A17: REPURCHASE / EARNINGS | B17: =B16/(B5*B15) -> -0.048201641 | C17: =C16/(C5*C15) -> 0.18366307 | D17: =D16/(D5*D15) -> 0.4854641 | E17: =E16/(E5*E15) -> 0.5504757 | G17: =A17&" "&$H$1 -> REPURCHASE / EARNINGS 3Y | H17: =AVERAGE(C17:E17) -> 0.40653429
A18: DIVIDENDS / EARNINGS | B18: =B14/B5 -> 0.19006479 | C18: =C14/C5 -> 0.16681777 | D18: =D14/D5 -> 0.1618015 | E18: =E14/E5 -> 0.14825581 | G18: =A18&" "&$H$1 -> DIVIDENDS / EARNINGS 3Y | H18: =AVERAGE(C18:E18) -> 0.15895836
A19: REPURCHASE / DIVIDENDS | B19: =B17/B18 -> -0.25360636 | C19: =C17/C18 -> 1.1009803 | D19: =D17/D18 -> 3.0003684 | E19: =E17/E18 -> 3.7130126 | G19: =A19&" "&$H$1 -> REPURCHASE / DIVIDENDS 3Y | H19: =AVERAGE(C19:E19) -> 2.6047871

Sheet PRICE
A1: PEGAR AQUI LA IMAGEN DE PRECIO DEL REPORT HTML

Sheet PREDICTIBILIDAD
A1: CÁLCULO DE PREDICTIBILIDAD DE BENEFICIOS Y AÑOS DE RETORNO
H2: https://app.tikr.com/stock/estimates?tab=est&tid=2589547
A3: REPORTE | B3: 30/09/2022 | C3: 30/09/2023 | D3: 30/09/2024 | E3: 30/09/2025
A4: EPS NORMALIZADO | B4: 11.03 | C4: 11.99 | D4: 13.76 | E4: 15.93
H5: ESTUDIO DE EPS REQUERIDOS PARA Q3 Y Q4
A6: PRECIO ACTUAL | B6: 302.52 | H6: 1) Introduce los resultados de Q1, Q2 y Q3 según se van produciendo, pon E para estimados y A para reales ya reportados.
A7: INFLACIÓN | B7: 0.0236 | H7: 2) Introduce el precio actual y el valor de inflación (T10YIE).
H8: 3) Prueba qué EPS normalizado es necesario en el próximo año para tener predictibilidad mayor de 0.95 y años de retorno menor a 12.
A9: PREDICTIBILIDAD | B9: =ROUND(AUX!I11,2) -> 0.99 | C9: =IF(B9<0.95," r2 < 0.95","") | H9: 4) Piensa si los EPS de Q3 y Q4 son factibles.
A10: TASA CRECIMIENTO | B10: =AUX!F5 -> 0.13206667 | C10: =IF(B9<0.95,"** r2 NO VALIDO","") | H10: Q1 | I10: 3.73 | J10: 31/12/2024 | K10: A
A11: DÍAS DESDE ÚLTIMO DATO REAL | B11: =TODAY()-D3 -> 355 | C11: =IF(B11>365," d > 365","") | H11: Q2 | I11: 4.42 | J11: 31/03/2025 | K11: A
A12: EPS HOY | B12: =D4+B11*(E4-D4)/365 -> 15.870548 | C12: =IF(B11>365,"** d NO VALIDO","") | H12: Q3 | I12: 4 | J12: 30/06/2025 | K12: A
A13: PER HOY | B13: =B6/B12 -> 19.061724 | C13: =C12 | H13: Q4 | I13: =E4-I10-I11-I12 -> 3.78 | J13: 30/09/2025 | K13: E
A14: AÑOS RETORNO HOY | B14: =AUX!F8 -> 11.78 | C14: =$C$10
A15: TASA CRECIMIENTO ESTE AÑO | B15: =(E4-D4)/D4 -> 0.15770349

Sheet MANAGEMENT
A1: Managers | H1: MARKETSCREENER
A2: Name | B2: Title | C2: Age | D2: Since
A3: xxx | B3: xxx | C3: xxx | D3: xxx | H3: VER LAS BIOGRAFIAS, EN LOS LINKS
H5: VER SUS SALARIOS EN LOS REPORTES
A17: Members of the board
A18: Name | B18: Title | C18: Age | D18: Since
A19: xxx | B19: xxx | C19: xxx | D19: xxx

Sheet OWNERSHIP
A1: Name | B1: Equities | C1: % | F1: MARKETSCREENER
A2: xxx | B2: xxx | C2: xxx

Sheet SUMMARY
A1: INCOME
A2: date | B2: 30/09/15 | C2: 30/09/16 | D2: 30/09/17 | E2: 30/09/18 | F2: 30/09/19 | G2: 30/09/20 | H2: 30/09/21 | I2: 30/09/22 | J2: 30/09/23 | K2: 30/09/24
A3: total_revenues | B3: 135961.8 | C3: 146849.69 | D3: 153143.83 | E3: 167939.64 | F3: 179589.12 | G3: 189893.93 | H3: 213988.84 | I3: 238587.01 | J3: 262173.41 | K3: 293958.6
A4: operating_income | B4: 1307.35 | C4: 1682.8 | D4: 2018.27 | E4: 1650.95 | F4: 2012.4 | G4: 2037.09 | H4: 2675.01 | I4: 2791.71 | J4: 2533.48 | K4: 3040.13
A5: interest_expense | B5: 112.02 | C5: 144.35 | D5: 149.04 | E5: 189.64 | F5: 157.77 | G5: 158.52 | H5: 174.07 | I5: 210.67 | J5: 275.65 | K5: 248.68
A6: income_tax_expense | B6: 407.13 | C6: -37.02 | D6: 553.4 | E6: -438.47 | F6: 112.97 | G6: -1894.27 | H6: 677.25 | I6: 516.52 | J6: 428.26 | K6: 484.7
A7: minority_interest | E7: -42.51 | F7: -1.23 | G7: 9.16 | H7: 4.68 | I7: -32.28 | J7: -12.72 | K7: 10.15
A8: weighted_average_diluted_shares_outstanding | B8: 217.79 | C8: 225.96 | D8: 221.6 | E8: 220.34 | F8: 211.84 | G8: 204.78 | H8: 208.47 | I8: 211.21 | J8: 204.59 | K8: 200.28
A9: dividends_per_share | B9: 1.16 | C9: 1.36 | D9: 1.46 | E9: 1.52 | F9: 1.6 | G9: 1.66 | H9: 1.76 | I9: 1.84 | J9: 1.94 | K9: 2.04
A11: BALANCE
A12: date | B12: 30/09/15 | C12: 30/09/16 | D12: 30/09/17 | E12: 30/09/18 | F12: 30/09/19 | G12: 30/09/20 | H12: 30/09/21 | I12: 30/09/22 | J12: 30/09/23 | K12: 30/09/24
A13: cash_and_equivalents | B13: 2167.44 | C13: 2741.83 | D13: 2435.12 | E13: 2492.52 | F13: 3374.19 | G13: 4597.75 | H13: 2547.14 | I13: 3388.19 | J13: 2592.05 | K13: 3132.65
A14: goodwill | B14: 4144.39 | C14: 5991.5 | D14: 6044.28 | E14: 6664.27 | F14: 6705.51 | G14: 6706.72 | H14: 9030.53 | I14: 8503.89 | J14: 9574.12 | K14: 9318.03
A15: current_portion_of_long_term_debt | C15: 610.21 | D15: 12.12 | E15: 151.66 | F15: 139.01 | G15: 501.26 | H15: 300.21 | I15: 1070.47 | J15: 573.33 | K15: 576.05
A16: other_current_liabilities | E16: 22 | F16: 66.7 | H16: 192.07 | K16: 630.2
A17: long_term_debt | B17: 3739.23 | C17: 3852.48 | D17: 3781.57 | E17: 4510.83 | F17: 4354.4 | G17: 3618.26 | H17: 6383.71 | I17: 4632.36 | J17: 4146.11 | K17: 3811.75
A18: other_non_current_liabilities | B18: 84.9 | C18: 160.47 | D18: 159.66 | E18: 409.95 | F18: 382.89 | G18: 6571.14 | H18: 6379.59 | I18: 5894.33 | J18: 6332.96 | K18: 5552.4
A19: total_equity | B19: 616.39 | C19: 2129.4 | D19: 2064.46 | E19: 3049.96 | F19: 2993.21 | G19: -839.64 | H19: 584.41 | I19: 71.27 | J19: 666.29 | K19: 786.74
A21: CASHFLOW
A22: date | B22: 30/09/15 | C22: 30/09/16 | D22: 30/09/17 | E22: 30/09/18 | F22: 30/09/19 | G22: 30/09/20 | H22: 30/09/21 | I22: 30/09/22 | J22: 30/09/23 | K22: 30/09/24
A23: total_depreciation_and_amortization | B23: 250.79 | C23: 385.87 | D23: 426.13 | E23: 502.41 | F23: 490.41 | G23: 401.62 | H23: 505.06 | I23: 697.94 | J23: 972.39 | K23: 1111.67
A24: capital_expenditure | B24: 231.59 | C24: 464.62 | D24: 466.4 | E24: 336.41 | F24: 310.22 | G24: 369.68 | H24: 438.22 | I24: 496.32 | J24: 458.36 | K24: 487.17
A25: common_and_preferred_stock_dividends_paid | B25: 253.92 | C25: 288.48 | D25: 320.27 | E25: 333.04 | F25: 338.97 | G25: 343.58 | H25: 366.65 | I25: 391.69 | J25: 398.75 | K25: 416.17
A26: repurchase_of_common_stock | B26: 1873.62 | C26: 2288.49 | D26: 339.34 | E26: 647.48 | F26: 680.02 | G26: 430.24 | H26: 105.7 | I26: 521.78 | J26: 1252.01 | K26: 1554.87
A28: RATIOS
A29: date | B29: 30/09/15 | C29: 30/09/16 | D29: 30/09/17 | E29: 30/09/18 | F29: 30/09/19 | G29: 30/09/20 | H29: 30/09/21 | I29: 30/09/22 | J29: 30/09/23 | K29: 30/09/24
A30: return_on_capital_perc | B30: 20.8 | C30: 19.1 | D30: 24.2 | E30: 17.3 | F30: 21.5 | G30: 45.8 | H30: 26.6 | I30: 33.2 | J30: 30.8 | K30: 37.8
A31: return_on_equity_perc | B31: -10.7 | C31: 104 | D31: 17.4 | E31: 63.2 | F31: 28.3 | G31: -315.7 | H31: -1210.4 | I31: 508.3 | J31: 469.8 | K31: 209.1
A32: ebitda_margin_perc | B32: 1.1 | C32: 1.4 | D32: 1.6 | E32: 1.3 | F32: 1.4 | G32: 1.3 | H32: 1.5 | I32: 1.5 | J32: 1.3 | K32: 1.4
A33: ebit_margin_perc | B33: 1 | C33: 1.1 | D33: 1.3 | E33: 1 | F33: 1.1 | G33: 1.1 | H33: 1.3 | I33: 1.2 | J33: 1 | K33: 1
A34: total_debt_per_ebitda | B34: 2.4 | C34: 2.16 | D34: 1.55 | E34: 2.17 | F34: 1.8 | G34: 1.78 | H34: 2.32 | I34: 1.79 | J34: 1.56 | K34: 1.26
A36: ESTIMATES
A37: date | B37: 30/09/15 | C37: 30/09/16 | D37: 30/09/17 | E37: 30/09/18 | F37: 30/09/19 | G37: 30/09/20 | H37: 30/09/21 | I37: 30/09/22 | J37: 30/09/23 | K37: 30/09/24
A38: ebitda | B38: 2088.58 | C38: 2247.84 | D38: 2258.1 | E38: 2271.61 | F38: 2353.81 | G38: 2485.03 | H38: 2977.16 | I38: 3552.77 | J38: 3701.98 | K38: 4079.94
A39: ebit | B39: 1899.4 | C39: 2030.37 | D39: 2016.87 | E39: 1981.23 | F39: 2051.25 | G39: 2204.45 | H39: 2648.2 | I39: 3163.43 | J39: 3289.12 | K39: 3648.26
A40: eps_normalized | B40: 4.96 | C40: 5.62 | D40: 5.88 | E40: 6.49 | F40: 7.09 | G40: 7.9 | H40: 9.26 | I40: 11.03 | J40: 11.99 | K40: 13.76
A41: eps_gaap | B41: -0.62 | C41: 6.32 | D41: 1.87 | E41: 7.53 | F41: 4.04 | G41: -16.65 | H41: 7.39 | I41: 8.04 | J41: 8.53 | K41: 7.53
A42: free_cash_flow | B42: 3688.79 | C42: 2713.88 | D42: 1022.61 | E42: 1074.98 | F42: 2033.8 | G42: 1837.36 | H42: 2228.37 | I42: 2206.77 | J42: 3452.98 | K42: 2997.51
A44: POST
A45: date | B45: 30/09/15 | C45: 30/09/16 | D45: 30/09/17 | E45: 30/09/18 | F45: 30/09/19 | G45: 30/09/20 | H45: 30/09/21 | I45: 30/09/22 | J45: 30/09/23 | K45: 30/09/24
...

Sheet AUX
A1: CÁLCULOS AUXILIARES PER CORREGIDO | H1: CÁLCULOS AUXILIARES PREDICTIBILIDAD
A2: Y | B2: fnc(Y) | C2: >0 | E2: limit k | F2: 0.25 | H2: x | I2: y | J2: x·y | K2: x² | L2: y²
A3: 1000 | B3: -1 | C3: =IF(B4>0,1,0) -> 0 | H3: -3 | I3: =LOG10(PREDICTIBILIDAD!B4) -> 1.0425755 | J3: =H3*I3 -> -3.1277265 | K3: =H3^2 -> 9 | L3: =I3^2 -> 1.0869637
A4: 100 | B4: =1+$F$5*$F$4*(1+$F$6)^A4-(1+$F$5)^A4 -> -243866.66 | C4: =IF(AND(B4>=0,B3<0),1,0) -> 0 | E4: PER | F4: =PREDICTIBILIDAD!B13 -> 19.061724 | H4: -2 | I4: =LOG10(PREDICTIBILIDAD!C4) -> 1.0788192 | J4: =H4*I4 -> -2.1576384 | K4: =H4^2 -> 4 | L4: =I4^2 -> 1.1638508
A5: =A4-0.01 -> 99.99 | B5: =1+$F$5*$F$4*(1+$F$6)^A5-(1+$F$5)^A5 -> -243564.32 | C5: =IF(AND(B5>=0,B4<0),1,0) -> 0 | E5: k | F5: =MIN(IF(I13=0,0.00000000001,I13),0.25) -> 0.13206667 | H5: -1 | I5: =LOG10(PREDICTIBILIDAD!D4) -> 1.1386184 | J5: =H5*I5 -> -1.1386184 | K5: =H5^2 -> 1 | L5: =I5^2 -> 1.2964519
A6: =A5-0.01 -> 99.98 | B6: =1+$F$5*$F$4*(1+$F$6)^A6-(1+$F$5)^A6 -> -243262.35 | C6: =IF(AND(B6>=0,B5<0),1,0) -> 0 | E6: I | F6: =PREDICTIBILIDAD!B7 -> 0.0236 | H6: 0 | I6: =LOG10(PREDICTIBILIDAD!E4) -> 1.2022158 | J6: =H6*I6 -> 0 | K6: =H6^2 -> 0 | L6: =I6^2 -> 1.4453228
A7: =A6-0.01 -> 99.97 | B7: =1+$F$5*$F$4*(1+$F$6)^A7-(1+$F$5)^A7 -> -242960.75 | C7: =IF(AND(B7>=0,B6<0),1,0) -> 0 | H7: =SUM(H3:H6) -> -6 | I7: =SUM(I3:I6) -> 4.4622289 | J7: =SUM(J3:J6) -> -6.4239833 | K7: =SUM(K3:K6) -> 14 | L7: =SUM(L3:L6) -> 4.9925892 | M7: SUMA
A8: =A7-0.01 -> 99.96 | B8: =1+$F$5*$F$4*(1+$F$6)^A8-(1+$F$5)^A8 -> -242659.53 | C8: =IF(AND(B8>=0,B7<0),1,0) -> 0 | E8: Y(fnc=0) | F8: =IF(OR(C3=1,F5<0),">100",SUMPRODUCT(A:A,C:C)) -> 11.78
A9: =A8-0.01 -> 99.95 | B9: =1+$F$5*$F$4*(1+$F$6)^A9-(1+$F$5)^A9 -> -242358.69 | C9: =IF(AND(B9>=0,B8<0),1,0) -> 0 | H9: a | I9: =(I7*K7-H7*J7)/(4*K7-H7^2) -> 1.1963652
A10: =A9-0.01 -> 99.94 | B10: =1+$F$5*$F$4*(1+$F$6)^A10-(1+$F$5)^A10 -> -242058.21 | C10: =IF(AND(B10>=0,B9<0),1,0) -> 0 | H10: b | I10: =(4*J7-H7*I7)/(4*K7-H7^2) -> 0.053872004
A11: =A10-0.01 -> 99.93 | B11: =1+$F$5*$F$4*(1+$F$6)^A11-(1+$F$5)^A11 -> -241758.11 | C11: =IF(AND(B11>=0,B10<0),1,0) -> 0 | H11: r² | I11: =(4*J7-H7*I7)^2/((4*K7-H7^2)*(4*L7-I7^2)) -> 0.98596411
A12: =A11-0.01 -> 99.92 | B12: =1+$F$5*$F$4*(1+$F$6)^A12-(1+$F$5)^A12 -> -241458.38 | C12: =IF(AND(B12>=0,B11<0),1,0) -> 0 | H12: h | I12: =10^I9 -> 15.71684
A13: =A12-0.01 -> 99.91 | B13: =1+$F$5*$F$4*(1+$F$6)^A13-(1+$F$5)^A13 -> -241159.02 | C13: =IF(AND(B13>=0,B12<0),1,0) -> 0 | H13: k | I13: =10^I10-1 -> 0.13206667
A14: =A13-0.01 -> 99.9 | B14: =1+$F$5*$F$4*(1+$F$6)^A14-(1+$F$5)^A14 -> -240860.03 | C14: =IF(AND(B14>=0,B13<0),1,0) -> 0
A15: =A14-0.01 -> 99.89 | B15: =1+$F$5*$F$4*(1+$F$6)^A15-(1+$F$5)^A15 -> -240561.42 | C15: =IF(AND(B15>=0,B14<0),1,0) -> 0
A16: =A15-0.01 -> 99.88 | B16: =1+$F$5*$F$4*(1+$F$6)^A16-(1+$F$5)^A16 -> -240263.17 | C16: =IF(AND(B16>=0,B15<0),1,0) -> 0
A17: =A16-0.01 -> 99.87 | B17: =1+$F$5*$F$4*(1+$F$6)^A17-(1+$F$5)^A17 -> -239965.29 | C17: =IF(AND(B17>=0,B16<0),1,0) -> 0
A18: =A17-0.01 -> 99.86 | B18: =1+$F$5*$F$4*(1+$F$6)^A18-(1+$F$5)^A18 -> -239667.79 | C18: =IF(AND(B18>=0,B17<0),1,0) -> 0
A19: =A18-0.01 -> 99.85 | B19: =1+$F$5*$F$4*(1+$F$6)^A19-(1+$F$5)^A19 -> -239370.65 | C19: =IF(AND(B19>=0,B18<0),1,0) -> 0
A20: =A19-0.01 -> 99.84 | B20: =1+$F$5*$F$4*(1+$F$6)^A20-(1+$F$5)^A20 -> -239073.88 | C20: =IF(AND(B20>=0,B19<0),1,0) -> 0
A21: =A20-0.01 -> 99.83 | B21: =1+$F$5*$F$4*(1+$F$6)^A21-(1+$F$5)^A21 -> -238777.48 | C21: =IF(AND(B21>=0,B20<0),1,0) -> 0
A22: =A21-0.01 -> 99.82 | B22: =1+$F$5*$F$4*(1+$F$6)^A22-(1+$F$5)^A22 -> -238481.44 | C22: =IF(AND(B22>=0,B21<0),1,0) -> 0
A23: =A22-0.01 -> 99.81 | B23: =1+$F$5*$F$4*(1+$F$6)^A23-(1+$F$5)^A23 -> -238185.77 | C23: =IF(AND(B23>=0,B22<0),1,0) -> 0
A24: =A23-0.01 -> 99.8 | B24: =1+$F$5*$F$4*(1+$F$6)^A24-(1+$F$5)^A24 -> -237890.47 | C24: =IF(AND(B24>=0,B23<0),1,0) -> 0
A25: =A24-0.01 -> 99.79 | B25: =1+$F$5*$F$4*(1+$F$6)^A25-(1+$F$5)^A25 -> -237595.54 | C25: =IF(AND(B25>=0,B24<0),1,0) -> 0
... A10004: =A10003-0.01 -> -1.4250021e-11 | B10004: =1+$F$5*$F$4*(1+$F$6)^A10004-(1+$F$5)^A10004 -> 2.5174184 | C10004: =IF(AND(B10004>=0,B10003<0),1,0) -> 0
